BEGIN:VCALENDAR
VERSION:2.0
PRODID:-//wp-events-plugin.com//7.0.4//EN
TZID:Europe/Vienna
X-WR-TIMEZONE:Europe/Vienna
BEGIN:VEVENT
UID:2485@roswithaschoen.com
DTSTART;TZID=Europe/Vienna:20260211T080000
DTEND;TZID=Europe/Vienna:20260211T090000
DTSTAMP:20260129T121030Z
URL:https://www.roswithaschoen.com/termine/balance-yoga-st-nikolai-ob-dras
 sling-2026-02-04-2026-02-11/
SUMMARY:Balance Yoga\, St. Nikolai ob Draßling
DESCRIPTION:
ATTACH;FMTTYPE=image/jpeg:https://www.roswithaschoen.com/wp-content/upload
 s/2026/01/Yoga-Nikolai-e1769688625769.jpg
CATEGORIES:Yoga
LOCATION:altes Gemeindeamt St. Nikolai ob Draßling\, St. Nikolai \, St. Ni
 kolai \, Steiermark \, 8422\, Österreich
X-APPLE-STRUCTURED-LOCATION;VALUE=URI;X-ADDRESS=St. Nikolai \, St. Nikolai 
 \, Steiermark \, 8422\, Österreich;X-APPLE-RADIUS=100;X-TITLE=altes Gemei
 ndeamt St. Nikolai ob Draßling:geo:0,0
END:VEVENT
BEGIN:VTIMEZONE
TZID:Europe/Vienna
X-LIC-LOCATION:Europe/Vienna
BEGIN:STANDARD
DTSTART:20251026T020000
TZOFFSETFROM:+0200
TZOFFSETTO:+0100
TZNAME:CET
END:STANDARD
END:VTIMEZONE
END:VCALENDAR