BEGIN:VCALENDAR
VERSION:2.0
PRODID:-//wp-events-plugin.com//7.0.4//EN
TZID:Europe/Vienna
X-WR-TIMEZONE:Europe/Vienna
BEGIN:VEVENT
UID:2306@roswithaschoen.com
DTSTART;TZID=Europe/Vienna:20251224T080000
DTEND;TZID=Europe/Vienna:20251224T090000
DTSTAMP:20251110T091501Z
URL:https://www.roswithaschoen.com/termine/balance-yoga-achtsam-gestaerkt-
 in-den-tag-st-nikolai-ob-drassling-2025-11-19-2025-11-26-2025-12-03-2025-1
 2-10-2025-12-17-2025-12-24/
SUMMARY:Balance Yoga - achtsam & gestärkt in den Tag\,  St. Nikolai ob Dra
 ßling
DESCRIPTION:
ATTACH;FMTTYPE=image/jpeg:https://www.roswithaschoen.com/wp-content/upload
 s/2025/11/Yoga-Nikolai-Nov.--e1762765832828.jpg
CATEGORIES:Yoga
LOCATION:altes Gemeindeamt St. Nikolai ob Draßling\, St. Nikolai \, St. Ni
 kolai \, Steiermark \, 8422\, Österreich
X-APPLE-STRUCTURED-LOCATION;VALUE=URI;X-ADDRESS=St. Nikolai \, St. Nikolai 
 \, Steiermark \, 8422\, Österreich;X-APPLE-RADIUS=100;X-TITLE=altes Gemei
 ndeamt St. Nikolai ob Draßling:geo:0,0
END:VEVENT
BEGIN:VTIMEZONE
TZID:Europe/Vienna
X-LIC-LOCATION:Europe/Vienna
BEGIN:STANDARD
DTSTART:20251026T020000
TZOFFSETFROM:+0200
TZOFFSETTO:+0100
TZNAME:CET
END:STANDARD
END:VTIMEZONE
END:VCALENDAR