BEGIN:VCALENDAR
VERSION:2.0
PRODID:-//wp-events-plugin.com//7.0.4//EN
TZID:Europe/Vienna
X-WR-TIMEZONE:Europe/Vienna
BEGIN:VEVENT
UID:2481@roswithaschoen.com
DTSTART;TZID=Europe/Vienna:20260208T180000
DTEND;TZID=Europe/Vienna:20260208T193000
DTSTAMP:20260125T083817Z
URL:https://www.roswithaschoen.com/termine/balance-fuer-koerper-seele-leib
 nitz/
SUMMARY:Balance für Körper & Seele\, Leibnitz
DESCRIPTION:
ATTACH;FMTTYPE=image/jpeg:https://www.roswithaschoen.com/wp-content/upload
 s/2026/01/About-Our-Company-5-e1769330290739.png
CATEGORIES:Yoga
LOCATION:Seminarium. Zentrum für Begegnung und Herzlichkeit\, Rettenbachst
 raße 13\, Leibnitz \, 8430 \, Österreich
X-APPLE-STRUCTURED-LOCATION;VALUE=URI;X-ADDRESS=Rettenbachstraße 13\, Leib
 nitz \, 8430 \, Österreich;X-APPLE-RADIUS=100;X-TITLE=Seminarium. Zentrum
  für Begegnung und Herzlichkeit:geo:0,0
END:VEVENT
BEGIN:VTIMEZONE
TZID:Europe/Vienna
X-LIC-LOCATION:Europe/Vienna
BEGIN:STANDARD
DTSTART:20251026T020000
TZOFFSETFROM:+0200
TZOFFSETTO:+0100
TZNAME:CET
END:STANDARD
END:VTIMEZONE
END:VCALENDAR