BEGIN:VCALENDAR
VERSION:2.0
PRODID:-//wp-events-plugin.com//7.2.3.1//EN
TZID:Europe/Vienna
X-WR-TIMEZONE:Europe/Vienna
BEGIN:VEVENT
UID:1458@roswithaschoen.com
DTSTART;TZID=Europe/Vienna:20250118T140000
DTEND;TZID=Europe/Vienna:20250118T180000
DTSTAMP:20250101T142518Z
URL:https://www.roswithaschoen.com/termine/altes-heilwissen-fuer-den-hausg
 ebrauch-praxisworkshop-seminarium-leibnitz/
SUMMARY:"Altes Heilwissen für den Hausgebrauch" Praxisworkshop\, Seminariu
 m Leibnitz
DESCRIPTION:Altes Heilwissen für mehr Gesundheit und Wohlbefinden\nGerade 
 in intensiven Zeiten ist es wichtiger denn je\,\nWege zu finden\, die uns 
 mit Gesundheit\, Wohlbefinden und innerer Balance verbinden.\nAltes Heilwi
 ssen ist eine wertvolle Schatzkiste\,\ndie uns zeigt\, wir wir auf natürl
 iche Weise Körper\, Geist und Seele nähren können.\nIm Praxisworkshop t
 auchen wir gemeinsam in die Welt des Alten Heilwissens ein.\nDu lernst wie
  du dieses Wissen ganz praktisch in deinem Alltag integrieren und\ndein Wo
 hlbefinden und deine Gesundheit unterstützen und fördern kannst. \nDer 
 Jänner ist dem Thema Bewegungsapparat gewidmet.\nIch teile eine spezielle
  Anwendung\, die besonders unterstützend für den Bewegungsapparat ist -\
 nideal bei Beschwerden in Knochen und Gelenken\, sowie für emotionale inn
 ere Stabilität.\nDu bist der Schlüssel zu deiner Heilung. \n\n\nHier fi
 ndest du weitere Informationen zum Praxisworkshop.\nDatum/Uhrzeit: 18. Jä
 nner 2025\, 14:00-18:00 Uhr\nOrt: Seminarium Leibnitz\, 8430 Rettenbachstr
 aße 13\nPreis: € 98\,00\nAnmeldung unter: info@roswithaschoen.com\n&nbs
 p\;
ATTACH;FMTTYPE=image/jpeg:https://www.roswithaschoen.com/wp-content/upload
 s/2024/12/2.png
CATEGORIES:Specials,Yoga
LOCATION:Seminarium. Zentrum für Begegnung und Herzlichkeit\, Rettenbachst
 raße 13\, Leibnitz \, 8430 \, Österreich
X-APPLE-STRUCTURED-LOCATION;VALUE=URI;X-ADDRESS=Rettenbachstraße 13\, Leib
 nitz \, 8430 \, Österreich;X-APPLE-RADIUS=100;X-TITLE=Seminarium. Zentrum
  für Begegnung und Herzlichkeit:geo:0,0
END:VEVENT
BEGIN:VTIMEZONE
TZID:Europe/Vienna
X-LIC-LOCATION:Europe/Vienna
BEGIN:STANDARD
DTSTART:20241027T020000
TZOFFSETFROM:+0200
TZOFFSETTO:+0100
TZNAME:CET
END:STANDARD
END:VTIMEZONE
END:VCALENDAR